BEGIN:VCALENDAR
VERSION:2.0
PRODID:-//Zentralwerkstatt Pfännerhall//NONSGML kigkonsult.se iCalcreator 2.41.92//
CALSCALE:GREGORIAN
METHOD:PUBLISH
UID:62356532-3761-4137-b266-333866646162
X-WR-CALNAME:iCagenda
X-WR-CALDESC:Event Management Extension for Joomla!
X-WR-RELCALID:3E26604A-50F4-4449-8B3E-E4F4932D05B5
X-WR-TIMEZONE:Europe/Berlin
BEGIN:VTIMEZONE
TZID:Europe/Berlin
TZUNTIL:20280326T010000Z
BEGIN:STANDARD
TZNAME:CET
DTSTART:20251026T030000
TZOFFSETFROM:+0200
TZOFFSETTO:+0100
RDATE:20261025T030000
RDATE:20271031T030000
END:STANDARD
BEGIN:DAYLIGHT
TZNAME:CEST
DTSTART:20260329T020000
TZOFFSETFROM:+0100
TZOFFSETTO:+0200
RDATE:20270328T020000
END:DAYLIGHT
END:VTIMEZONE
BEGIN:VEVENT
UID:38336430-3661-4030-a265-306230306234
DTSTAMP:20260422T135345Z
CATEGORIES:externe Veranstalter
CLASS:PUBLIC
DESCRIPTION;ALTREP="CID:<FFFF__=0ABBE548DFE235B58f9e8a93d@coffeebean.com>":
 nicht öffentliche Veranstaltung\nIn dieser Zeit bleibt die Ausstellung ges
 chlossen
DTSTART:20260717T080000Z
DTEND:20260726T181000Z
GEO:00;0
LOCATION:Pfännerhall
ORGANIZER:
SEQUENCE:1
SUMMARY:Tango Camp
TRANSP:OPAQUE
URL:https://www.pfaennerhall-geiseltal.de/index.php/veranstaltungen/tango-c
 amp
END:VEVENT
END:VCALENDAR
